BEGIN:VCALENDAR
VERSION:2.0
PRODID:-//Myrah Watches - ECPv6.15.20//NONSGML v1.0//EN
CALSCALE:GREGORIAN
METHOD:PUBLISH
X-ORIGINAL-URL:https://myrah-watches.com
X-WR-CALDESC:Évènements pour Myrah Watches
REFRESH-INTERVAL;VALUE=DURATION:PT1H
X-Robots-Tag:noindex
X-PUBLISHED-TTL:PT1H
BEGIN:VTIMEZONE
TZID:UTC
BEGIN:STANDARD
TZOFFSETFROM:+0000
TZOFFSETTO:+0000
TZNAME:UTC
DTSTART:20230101T000000
END:STANDARD
END:VTIMEZONE
BEGIN:VEVENT
DTSTART;TZID=UTC:20241123T200000
DTEND;TZID=UTC:20241123T200000
DTSTAMP:20260425T172422
CREATED:20200428T140044Z
LAST-MODIFIED:20241210T225153Z
UID:1213-1732392000-1732392000@myrah-watches.com
SUMMARY:Soirée spéciale aux caves du château
DESCRIPTION:Soirée de présentation Myrah\, pour des invités très spéciaux aux caves du château. \nVoici la soirée en images:
URL:https://myrah-watches.com/evenement/soiree-cave-du-chateau/
LOCATION:Caves du château\, Place Monsieur 1\, Delémont\, Jura\, 2800\, Switzerland
ATTACH;FMTTYPE=image/webp:https://myrah-watches.com/wp-content/uploads/2023/10/footer-myrah.webp
END:VEVENT
END:VCALENDAR